BEGIN:VCALENDAR
VERSION:2.0
PRODID:-//YMCA of Delaware - ECPv6.15.17.1//NONSGML v1.0//EN
CALSCALE:GREGORIAN
METHOD:PUBLISH
X-WR-CALNAME:YMCA of Delaware
X-ORIGINAL-URL:https://www.ymcade.org
X-WR-CALDESC:Events for YMCA of Delaware
REFRESH-INTERVAL;VALUE=DURATION:PT1H
X-Robots-Tag:noindex
X-PUBLISHED-TTL:PT1H
BEGIN:VTIMEZONE
TZID:America/New_York
BEGIN:DAYLIGHT
TZOFFSETFROM:-0500
TZOFFSETTO:-0400
TZNAME:EDT
DTSTART:20240310T070000
END:DAYLIGHT
BEGIN:STANDARD
TZOFFSETFROM:-0400
TZOFFSETTO:-0500
TZNAME:EST
DTSTART:20241103T060000
END:STANDARD
BEGIN:DAYLIGHT
TZOFFSETFROM:-0500
TZOFFSETTO:-0400
TZNAME:EDT
DTSTART:20250309T070000
END:DAYLIGHT
BEGIN:STANDARD
TZOFFSETFROM:-0400
TZOFFSETTO:-0500
TZNAME:EST
DTSTART:20251102T060000
END:STANDARD
BEGIN:DAYLIGHT
TZOFFSETFROM:-0500
TZOFFSETTO:-0400
TZNAME:EDT
DTSTART:20260308T070000
END:DAYLIGHT
BEGIN:STANDARD
TZOFFSETFROM:-0400
TZOFFSETTO:-0500
TZNAME:EST
DTSTART:20261101T060000
END:STANDARD
END:VTIMEZONE
BEGIN:VTIMEZONE
TZID:UTC
BEGIN:STANDARD
TZOFFSETFROM:+0000
TZOFFSETTO:+0000
TZNAME:UTC
DTSTART:20240101T000000
END:STANDARD
END:VTIMEZONE
BEGIN:VEVENT
DTSTART;TZID=America/New_York:20250224T123000
DTEND;TZID=America/New_York:20250224T133000
DTSTAMP:20260424T105114
CREATED:20250131T211947Z
LAST-MODIFIED:20250131T224154Z
UID:10000571-1740400200-1740403800@www.ymcade.org
SUMMARY:Young at Heart Social Club
DESCRIPTION:AOA Social Club: Connect and Share! \nMembers\, join us for a fun and engaging social gathering with fellow members. Feel free to bring a snack or refreshment to share. The event is hosted by Silvana in the Studio. \nEvent Details: \n\nWhen: Last Monday of each month\, 12:30 p.m.\nWhere: The STEM Room\n\nFor more information and monthly updates\, check with the front desk. \nDon’t miss out on the chance to connect and socialize at the AOA Social Club!
URL:https://www.ymcade.org/event/young-at-heart-social-club-2/2025-02-24/
LOCATION:Middletown YMCA\, 202 E. Cochran St\, Middletown\, DE\, 19709\, United States
CATEGORIES:Middletown YMCA,Programs
END:VEVENT
BEGIN:VEVENT
DTSTART;TZID=UTC:20250224T170000
DTEND;TZID=UTC:20250224T210000
DTSTAMP:20260424T105114
CREATED:20250203T195319Z
LAST-MODIFIED:20250203T195319Z
UID:10000637-1740416400-1740430800@www.ymcade.org
SUMMARY:NCC Division of Police Recruiting
DESCRIPTION:February 24 | 5:00 – 9:00 pm \nBrandywine YMCA | 3 Mount Lebanon Rd. Wilmington\, DE 19803 \nInterested in working for the NCC Division of Police? Stop by and meet Corporal Henry Hamilton. Whether you’re just starting your career or looking to make a change\, this is your opportunity to explore a rewarding path in law enforcement.
URL:https://www.ymcade.org/event/ncc-division-of-police-recruiting/
LOCATION:Brandywine YMCA\, 3 Mount Lebanon Road\, Wilmington\, DE\, 19803
CATEGORIES:Brandywine YMCA
END:VEVENT
END:VCALENDAR