BEGIN:VCALENDAR
VERSION:2.0
PRODID:-//YMCA of Delaware - ECPv6.15.17.1//NONSGML v1.0//EN
CALSCALE:GREGORIAN
METHOD:PUBLISH
X-ORIGINAL-URL:https://www.ymcade.org
X-WR-CALDESC:Events for YMCA of Delaware
REFRESH-INTERVAL;VALUE=DURATION:PT1H
X-Robots-Tag:noindex
X-PUBLISHED-TTL:PT1H
BEGIN:VTIMEZONE
TZID:UTC
BEGIN:STANDARD
TZOFFSETFROM:+0000
TZOFFSETTO:+0000
TZNAME:UTC
DTSTART:20240101T000000
END:STANDARD
END:VTIMEZONE
BEGIN:VEVENT
DTSTART;VALUE=DATE:20250301
DTEND;VALUE=DATE:20250318
DTSTAMP:20260424T093754
CREATED:20250228T165928Z
LAST-MODIFIED:20250303T154149Z
UID:10000667-1740787200-1742255999@www.ymcade.org
SUMMARY:Camp Lucky Day | Win A Free Week of Camp!
DESCRIPTION:Register for a YMCA of Delaware Day Camp from March 1st through 17th and be entered to win a FREE week of camp! \nRegister here!
URL:https://www.ymcade.org/event/camp-lucky-day-win-a-free-week-of-camp/
LOCATION:Bear-Glasgow Family YMCA\, 351 George Williams Way\, Newark\, DE\, 19702\, United States
CATEGORIES:Association-Wide,Bear-Glasgow YMCA,Brandywine YMCA,Dover YMCA,Middletown YMCA,Sussex YMCA,Walnut Street YMCA,Western YMCA
END:VEVENT
BEGIN:VEVENT
DTSTART;VALUE=DATE:20250301
DTEND;VALUE=DATE:20250401
DTSTAMP:20260424T093754
CREATED:20250228T162135Z
LAST-MODIFIED:20250228T162135Z
UID:10000658-1740787200-1743465599@www.ymcade.org
SUMMARY:March Fitness Challenge
DESCRIPTION:Earn a free shirt when you visit the YMCA 17 times in March and download the YMCA360 App. \nOpen to members 16+. \nMembers MUST REGISTER BY MARCH 10th at the front desk or online.
URL:https://www.ymcade.org/event/march-fitness-challenge/
LOCATION:Bear-Glasgow Family YMCA\, 351 George Williams Way\, Newark\, DE\, 19702\, United States
CATEGORIES:Association-Wide,Bear-Glasgow YMCA,Brandywine YMCA,Central YMCA,Dover YMCA,Middletown YMCA,Sussex YMCA,Western YMCA
END:VEVENT
BEGIN:VEVENT
DTSTART;TZID=UTC:20250307T090000
DTEND;TZID=UTC:20250307T110000
DTSTAMP:20260424T093754
CREATED:20250228T162640Z
LAST-MODIFIED:20250228T162640Z
UID:10000661-1741338000-1741345200@www.ymcade.org
SUMMARY:National Flapjack Day
DESCRIPTION:Join us for a flapjack in the lobby. \nThe day honors the sturdy\, wholesome cakes we’ve been cooking up for generations! \nRecipes handed down across generations continue to bring smiles to families nationwide.
URL:https://www.ymcade.org/event/national-flapjack-day/
LOCATION:Middletown YMCA\, 202 E. Cochran St\, Middletown\, DE\, 19709\, United States
CATEGORIES:Middletown YMCA
END:VEVENT
BEGIN:VEVENT
DTSTART;TZID=UTC:20250307T173000
DTEND;TZID=UTC:20250307T200000
DTSTAMP:20260424T093754
CREATED:20250306T031926Z
LAST-MODIFIED:20250306T032401Z
UID:10000681-1741368600-1741377600@www.ymcade.org
SUMMARY:Teen Night
DESCRIPTION:Come out and bring your friends to enjoy a night of chilling\, laughing\, food\, and fun! \nTeens can use the pool (they must bring swimwear)\, work out in the Fitness Center\, play basketball\, or just hang out! \nRegistration is not required and is open to the community. \nTeen Nights are FREE. YMCA membership is not required. \nA parent/guardian must check you in.
URL:https://www.ymcade.org/event/teen-night-16/2025-03-07/
LOCATION:Brandywine YMCA\, 3 Mount Lebanon Road\, Wilmington\, DE\, 19803
CATEGORIES:Brandywine YMCA
END:VEVENT
END:VCALENDAR