BEGIN:VCALENDAR
VERSION:2.0
PRODID:-//YMCA of Delaware - ECPv6.15.17.1//NONSGML v1.0//EN
CALSCALE:GREGORIAN
METHOD:PUBLISH
X-ORIGINAL-URL:https://www.ymcade.org
X-WR-CALDESC:Events for YMCA of Delaware
REFRESH-INTERVAL;VALUE=DURATION:PT1H
X-Robots-Tag:noindex
X-PUBLISHED-TTL:PT1H
BEGIN:VTIMEZONE
TZID:UTC
BEGIN:STANDARD
TZOFFSETFROM:+0000
TZOFFSETTO:+0000
TZNAME:UTC
DTSTART:20250101T000000
END:STANDARD
END:VTIMEZONE
BEGIN:VEVENT
DTSTART;TZID=UTC:20260319T180000
DTEND;TZID=UTC:20260319T190000
DTSTAMP:20260421T075838
CREATED:20260227T213356Z
LAST-MODIFIED:20260227T213356Z
UID:10001106-1773943200-1773946800@www.ymcade.org
SUMMARY:Intro to Group Fitness Workshop
DESCRIPTION:New to Group Fitness? Join us in the Conference Room for our quick workshop to explore our class formats\, learn what to expect\, and find the perfect workouts for your goals. \nWe’ll answer all your questions so you can step into your first class with total confidence! \nRegister Here! 
URL:https://www.ymcade.org/event/intro-to-group-fitness-workshop-3/
LOCATION:Western YMCA\, 2600 Capitol Trail\, Newark\, DE\, 19711
CATEGORIES:Western YMCA
END:VEVENT
END:VCALENDAR