BEGIN:VCALENDAR
VERSION:2.0
PRODID:-//YMCA of Delaware - ECPv6.15.17.1//NONSGML v1.0//EN
CALSCALE:GREGORIAN
METHOD:PUBLISH
X-WR-CALNAME:YMCA of Delaware
X-ORIGINAL-URL:https://www.ymcade.org
X-WR-CALDESC:Events for YMCA of Delaware
REFRESH-INTERVAL;VALUE=DURATION:PT1H
X-Robots-Tag:noindex
X-PUBLISHED-TTL:PT1H
BEGIN:VTIMEZONE
TZID:UTC
BEGIN:STANDARD
TZOFFSETFROM:+0000
TZOFFSETTO:+0000
TZNAME:UTC
DTSTART:20250101T000000
END:STANDARD
END:VTIMEZONE
BEGIN:VEVENT
DTSTART;VALUE=DATE:20260421
DTEND;VALUE=DATE:20260422
DTSTAMP:20260421T092259
CREATED:20260401T024505Z
LAST-MODIFIED:20260401T024505Z
UID:10001131-1776729600-1776815999@www.ymcade.org
SUMMARY:Brandywine Social Club: Movie
DESCRIPTION: Join the Brandywine Social Club as we head to the movies to see Disney’s Hoppers! \nTime & Paratransit TBD \n$7.99 and bring money for food/snacks.
URL:https://www.ymcade.org/event/brandywine-social-club-movie/
LOCATION:Regal Brandywine Town Cinema\, 3300 Brandywine Pkwy.\, Wilmington\, DE\, 19803\, United States
CATEGORIES:Brandywine Social Club,Brandywine YMCA
END:VEVENT
BEGIN:VEVENT
DTSTART;TZID=UTC:20260421T090000
DTEND;TZID=UTC:20260421T120000
DTSTAMP:20260421T092259
CREATED:20260203T023333Z
LAST-MODIFIED:20260203T023333Z
UID:10001051-1776762000-1776772800@www.ymcade.org
SUMMARY:Christiana Care Mobile Service Van
DESCRIPTION:The Christiana Care Mobile Service Van will be in our community\, located in front of the Western Family YMCA. \nThe mobile health services will provide same-day\, easy to access services such as:\nPlease bring your insurance card with you. No appointment necessary.\n\nVision Screenings\nBlood Pressure Screenings\nVirtual Visits\nConnection to Primary Care\nAnd More
URL:https://www.ymcade.org/event/christiana-care-mobile-service-van/2026-04-21/
LOCATION:Western YMCA\, 2600 Capitol Trail\, Newark\, DE\, 19711
CATEGORIES:Western YMCA
END:VEVENT
END:VCALENDAR