BEGIN:VCALENDAR
VERSION:2.0
PRODID:-//YMCA of Delaware - ECPv6.15.17.1//NONSGML v1.0//EN
CALSCALE:GREGORIAN
METHOD:PUBLISH
X-ORIGINAL-URL:https://www.ymcade.org
X-WR-CALDESC:Events for YMCA of Delaware
REFRESH-INTERVAL;VALUE=DURATION:PT1H
X-Robots-Tag:noindex
X-PUBLISHED-TTL:PT1H
BEGIN:VTIMEZONE
TZID:UTC
BEGIN:STANDARD
TZOFFSETFROM:+0000
TZOFFSETTO:+0000
TZNAME:UTC
DTSTART:20230101T000000
END:STANDARD
END:VTIMEZONE
BEGIN:VEVENT
DTSTART;VALUE=DATE:20240711
DTEND;VALUE=DATE:20240904
DTSTAMP:20260424T000126
CREATED:20240711T123525Z
LAST-MODIFIED:20240712T161639Z
UID:10000023-1720656000-1725407999@www.ymcade.org
SUMMARY:Fall Sports League Registration
DESCRIPTION:We love team sports at the Y! They are a great way for kids to learn new skills\, practice discipline\, meet new friends\, and have fun! Flag Football\, Soccer\, Basketball (Adult & Youth) and Volleyball – it’s all here! \nSports Leagues Season: September 3 – October 27 \nRegister Now!
URL:https://www.ymcade.org/event/fall-sports-league-registration/
LOCATION:Brandywine YMCA\, 3 Mount Lebanon Road\, Wilmington\, DE\, 19803
CATEGORIES:Bear-Glasgow YMCA,Brandywine YMCA,Middletown YMCA,Programs,Walnut Street YMCA,Western YMCA
END:VEVENT
BEGIN:VEVENT
DTSTART;TZID=UTC:20240903T190000
DTEND;TZID=UTC:20240903T200000
DTSTAMP:20260424T000126
CREATED:20240709T174436Z
LAST-MODIFIED:20240712T161451Z
UID:10000017-1725390000-1725393600@www.ymcade.org
SUMMARY:Group Run (New Castle County)
DESCRIPTION:Join us on our group runs spread across an 8-week period and multiple locations. No experience in running necessary. Open to all YMCA members. \nSchedule\nSunday\, July 14 | 8 am\nNaaman’s Baseball Fields\nLed by Vic Aguilar \nMonday\, July 22  |  7 pm\nDelcastle Recreational Park\nLed by Beca Sanchez \nSunday\, July 28  |  8 am\nNaaman’s Baseball Fields\nLed by Vic Aguilar \nMonday\, August 5  |  7 pm\nDelcastle Recreational Park\nLed by Beca Sanchez \nSunday\, August 11  |  8 am\nNaaman’s Baseball Fields\nLed by Vic Aguilar \nTuesday\, August 20 |  7 pm\nGlasgow Park\nLed by Rocio Rodriguez \nTuesday\, August 27  |  7 pm\nGlasgow Park\nLed by Rocio Rodriguez \nTuesday\, September 3 | 7 pm\nGlasgow Park (BGY)\nLed by Rocio Rodriguez
URL:https://www.ymcade.org/event/group-runs-new-castle-county/2024-09-03/
LOCATION:Rotating Location
CATEGORIES:Bear-Glasgow YMCA,Brandywine YMCA,Central YMCA,Middletown YMCA,Western YMCA
END:VEVENT
BEGIN:VEVENT
DTSTART;TZID=UTC:20240914T180000
DTEND;TZID=UTC:20240914T200000
DTSTAMP:20260424T000126
CREATED:20240906T174944Z
LAST-MODIFIED:20240906T174944Z
UID:10000303-1726336800-1726344000@www.ymcade.org
SUMMARY:Teen Night
DESCRIPTION:Join us from 6 to 8 p.m. for a FREE evening of cool activities and a time to make awesome friends.  \nWe’ve got something special for everyone! \nAll teens must be picked up promptly at 8 p.m.
URL:https://www.ymcade.org/event/teen-night-8/2024-09-14/
LOCATION:Bear-Glasgow Family YMCA\, 351 George Williams Way\, Newark\, DE\, 19702\, United States
CATEGORIES:Bear-Glasgow YMCA
END:VEVENT
BEGIN:VEVENT
DTSTART;TZID=UTC:20240927T170000
DTEND;TZID=UTC:20240927T200000
DTSTAMP:20260424T000126
CREATED:20240906T174640Z
LAST-MODIFIED:20240906T174640Z
UID:10000302-1727456400-1727467200@www.ymcade.org
SUMMARY:Parents' Night Out
DESCRIPTION:Children ages 2 – 10 can enjoy fun\, games\, and crafts while parents have a night out!  \nRegistration ends at 10 a.m. on September 27th.  \nCost is $25 for the 1st child and $15 for each additional child.
URL:https://www.ymcade.org/event/parents-night-out-4/
LOCATION:Bear-Glasgow Family YMCA\, 351 George Williams Way\, Newark\, DE\, 19702\, United States
CATEGORIES:Bear-Glasgow YMCA
END:VEVENT
BEGIN:VEVENT
DTSTART;TZID=UTC:20240928T180000
DTEND;TZID=UTC:20240928T200000
DTSTAMP:20260424T000126
CREATED:20240906T174944Z
LAST-MODIFIED:20240906T174944Z
UID:10000304-1727546400-1727553600@www.ymcade.org
SUMMARY:Teen Night
DESCRIPTION:Join us from 6 to 8 p.m. for a FREE evening of cool activities and a time to make awesome friends.  \nWe’ve got something special for everyone! \nAll teens must be picked up promptly at 8 p.m.
URL:https://www.ymcade.org/event/teen-night-8/2024-09-28/
LOCATION:Bear-Glasgow Family YMCA\, 351 George Williams Way\, Newark\, DE\, 19702\, United States
CATEGORIES:Bear-Glasgow YMCA
END:VEVENT
END:VCALENDAR