BEGIN:VCALENDAR
VERSION:2.0
PRODID:-//YMCA of Delaware - ECPv6.15.17.1//NONSGML v1.0//EN
CALSCALE:GREGORIAN
METHOD:PUBLISH
X-WR-CALNAME:YMCA of Delaware
X-ORIGINAL-URL:https://www.ymcade.org
X-WR-CALDESC:Events for YMCA of Delaware
REFRESH-INTERVAL;VALUE=DURATION:PT1H
X-Robots-Tag:noindex
X-PUBLISHED-TTL:PT1H
BEGIN:VTIMEZONE
TZID:UTC
BEGIN:STANDARD
TZOFFSETFROM:+0000
TZOFFSETTO:+0000
TZNAME:UTC
DTSTART:20230101T000000
END:STANDARD
END:VTIMEZONE
BEGIN:VEVENT
DTSTART;VALUE=DATE:20241105
DTEND;VALUE=DATE:20241106
DTSTAMP:20260423T175739
CREATED:20241031T145657Z
LAST-MODIFIED:20241031T145657Z
UID:10000410-1730764800-1730851199@www.ymcade.org
SUMMARY:Football Jersey Day
DESCRIPTION:Show off your team spirit! Staff and members are invited to rock their favorite jerseys. \nJoin the fun in the lobby including a raffle for a month of free membership!
URL:https://www.ymcade.org/event/football-jersey-day/
LOCATION:Bear-Glasgow Family YMCA\, 351 George Williams Way\, Newark\, DE\, 19702\, United States
CATEGORIES:Bear-Glasgow YMCA
END:VEVENT
BEGIN:VEVENT
DTSTART;VALUE=DATE:20241106
DTEND;VALUE=DATE:20241107
DTSTAMP:20260423T175739
CREATED:20241031T145833Z
LAST-MODIFIED:20241031T145833Z
UID:10000411-1730851200-1730937599@www.ymcade.org
SUMMARY:Stress Awareness Day
DESCRIPTION:Special meditation workouts will be held! Check the group cast schedule or ask the front desk for more details!
URL:https://www.ymcade.org/event/stress-awareness-day-2/
LOCATION:Bear-Glasgow Family YMCA\, 351 George Williams Way\, Newark\, DE\, 19702\, United States
CATEGORIES:Bear-Glasgow YMCA
END:VEVENT
BEGIN:VEVENT
DTSTART;TZID=UTC:20241109T093000
DTEND;TZID=UTC:20241109T113000
DTSTAMP:20260423T175739
CREATED:20241031T150415Z
LAST-MODIFIED:20241031T150415Z
UID:10000412-1731144600-1731151800@www.ymcade.org
SUMMARY:Veterans Day Brunch
DESCRIPTION:We invite all veterans\, active military\, family members\, and supporters to join us for a heartwarming Veterans Day Brunch on Saturday\, November 9th at the Bear-Glasgow YMCA. This complimentary brunch is our way of saying thank you for your incredible service and sacrifice to our nation. \n*Registration not required*
URL:https://www.ymcade.org/event/veterans-day-brunch/
LOCATION:Bear-Glasgow Family YMCA\, 351 George Williams Way\, Newark\, DE\, 19702\, United States
CATEGORIES:Bear-Glasgow YMCA
END:VEVENT
BEGIN:VEVENT
DTSTART;TZID=UTC:20241109T180000
DTEND;TZID=UTC:20241109T200000
DTSTAMP:20260423T175739
CREATED:20241031T151520Z
LAST-MODIFIED:20241031T151520Z
UID:10000413-1731175200-1731182400@www.ymcade.org
SUMMARY:Teen Night
DESCRIPTION:Join us for a FREE evening of activities and friendship-building from 6 to 8 p.m. All teens must be picked up promptly at 8 p.m.
URL:https://www.ymcade.org/event/teen-night-9/
LOCATION:Bear-Glasgow Family YMCA\, 351 George Williams Way\, Newark\, DE\, 19702\, United States
CATEGORIES:Bear-Glasgow YMCA
END:VEVENT
BEGIN:VEVENT
DTSTART;TZID=UTC:20241111T173000
DTEND;TZID=UTC:20241111T183000
DTSTAMP:20260423T175739
CREATED:20241031T151720Z
LAST-MODIFIED:20241031T151720Z
UID:10000414-1731346200-1731349800@www.ymcade.org
SUMMARY:Nutrition Seminar
DESCRIPTION:Taking place in our lobby\, Christiana Care will present a seminar on nutrition you won’t want to miss!
URL:https://www.ymcade.org/event/nutrition-seminar/
LOCATION:Bear-Glasgow Family YMCA\, 351 George Williams Way\, Newark\, DE\, 19702\, United States
CATEGORIES:Bear-Glasgow YMCA
END:VEVENT
BEGIN:VEVENT
DTSTART;TZID=UTC:20241115T170000
DTEND;TZID=UTC:20241115T200000
DTSTAMP:20260423T175739
CREATED:20241031T152003Z
LAST-MODIFIED:20241031T152003Z
UID:10000415-1731690000-1731700800@www.ymcade.org
SUMMARY:Parents' Night Out
DESCRIPTION:Children ages 2 – 10 can enjoy games and crafts while parents have a night out. Registration ends at 10 a.m. on November 15. \nCost: $25 for the 1st child and $15 for each additional child.
URL:https://www.ymcade.org/event/parents-night-out-5/
LOCATION:Bear-Glasgow Family YMCA\, 351 George Williams Way\, Newark\, DE\, 19702\, United States
CATEGORIES:Bear-Glasgow YMCA
END:VEVENT
BEGIN:VEVENT
DTSTART;VALUE=DATE:20241129
DTEND;VALUE=DATE:20241130
DTSTAMP:20260423T175739
CREATED:20241031T152221Z
LAST-MODIFIED:20241031T152221Z
UID:10000416-1732838400-1732924799@www.ymcade.org
SUMMARY:Thanksgiving Fitness Fest
DESCRIPTION:*TIME TBD* \nCelebrate gratitude and fitness together at the Y! Join us the Friday after Thanksgiving for our annual Thanksgiving Fitness Fest with a variety of 45-minute classes led by our group exercise instructors. \n*A modified group class schedule from November 25 through December 1 will be published closer to the date.
URL:https://www.ymcade.org/event/thanksgiving-fitness-fest/
LOCATION:Bear-Glasgow Family YMCA\, 351 George Williams Way\, Newark\, DE\, 19702\, United States
CATEGORIES:Bear-Glasgow YMCA
END:VEVENT
END:VCALENDAR