BEGIN:VCALENDAR
VERSION:2.0
PRODID:-//YMCA of Delaware - ECPv6.15.17.1//NONSGML v1.0//EN
CALSCALE:GREGORIAN
METHOD:PUBLISH
X-ORIGINAL-URL:https://www.ymcade.org
X-WR-CALDESC:Events for YMCA of Delaware
REFRESH-INTERVAL;VALUE=DURATION:PT1H
X-Robots-Tag:noindex
X-PUBLISHED-TTL:PT1H
BEGIN:VTIMEZONE
TZID:UTC
BEGIN:STANDARD
TZOFFSETFROM:+0000
TZOFFSETTO:+0000
TZNAME:UTC
DTSTART:20230101T000000
END:STANDARD
END:VTIMEZONE
BEGIN:VEVENT
DTSTART;TZID=UTC:20241005T100000
DTEND;TZID=UTC:20241005T123000
DTSTAMP:20260423T205501
CREATED:20240801T142509Z
LAST-MODIFIED:20240801T142509Z
UID:10000235-1728122400-1728131400@www.ymcade.org
SUMMARY:Pumpkin Dash 5K
DESCRIPTION:There’s no better way to celebrate the Fall than at the Pumpkin Dash 5K\, a FUN event for the whole family! The 5K is perfect for everyone\, whether you’re an avid runner aiming for a personal best or prefer to take a leisurely walk and enjoy the autumn scenery. Participants can choose to run the entire course or walk at their own pace\, making this event accessible to all fitness levels. \nClick here for details & to register. \n  \nSchedule of Events\n\n9 am – Race Registration\n9:45 am – FREE Kids Race for ages 8 years old and under – Registration not required\n10 am – 5K Race start\n12 pm – Awards\n\nProceeds benefit the YMCA Open Doors Financial Assistance Program. Each year\, more than $1Million in financial assistance is provided to individuals\, families and adults throughout Bear-Glasgow\, giving everyone access to a YMCA members and essential programs like summer day camp\, Before & After School Care\, Swim Lessons\, and more.
URL:https://www.ymcade.org/event/pumpkin-dash-5k/
LOCATION:Glasgow Park\, 2275 Pulaski Highway\, Bear\, DE\, 19702\, United States
CATEGORIES:Bear-Glasgow YMCA,Let's Move DE
END:VEVENT
END:VCALENDAR