BEGIN:VCALENDAR
VERSION:2.0
PRODID:-//YMCA of Delaware - ECPv6.15.17.1//NONSGML v1.0//EN
CALSCALE:GREGORIAN
METHOD:PUBLISH
X-ORIGINAL-URL:https://www.ymcade.org
X-WR-CALDESC:Events for YMCA of Delaware
REFRESH-INTERVAL;VALUE=DURATION:PT1H
X-Robots-Tag:noindex
X-PUBLISHED-TTL:PT1H
BEGIN:VTIMEZONE
TZID:UTC
BEGIN:STANDARD
TZOFFSETFROM:+0000
TZOFFSETTO:+0000
TZNAME:UTC
DTSTART:20230101T000000
END:STANDARD
END:VTIMEZONE
BEGIN:VEVENT
DTSTART;VALUE=DATE:20241007
DTEND;VALUE=DATE:20241012
DTSTAMP:20260423T224130
CREATED:20241007T134209Z
LAST-MODIFIED:20241007T134209Z
UID:10000401-1728259200-1728691199@www.ymcade.org
SUMMARY:Spirit Week
DESCRIPTION:Show your spirit this week!\n\nStop by the front desk for a chance to win a one month free membership!\n\nYMCA Spirit Week Themes:\n\n**Pink Out Monday (Breast Cancer Awareness)**\n\n   Wear all pink to show support for Breast Cancer Awareness Month.\n\n\n**Throwback Tuesday**\n\n   Dress in your favorite decade’s fashion—whether it’s the 70s\, 80s\, or 90s—and celebrate a blast from the past.\n\n\n**Wacky Wednesday**\n\n   Go wild with mismatched clothes\, crazy hats\, or wild hairstyles! The wackier\, the better!\n\n\n**Superhero Thursday**\n\n   Dress as your favorite superhero—whether they come from comics or your imagination!\n\n\n**Fun Hat Friday**\n\n   Wear your silliest or creative hat! Whether it’s a fedora\, a baseball cap\, or something completely unique.\n\n\n**YMCA Pride Saturday**\n\n   Show off your YMCA pride by wearing any Y-branded gear or YMCA colors (blue and white).\n\n\n**Sports Jersey Sunday**\n\n   End Spirit Week by wearing your favorite sports jersey—whether it’s for a local team\, a national favorite\, or even your YMCA sports program! 
URL:https://www.ymcade.org/event/spirit-week-5/
LOCATION:Bear-Glasgow Family YMCA\, 351 George Williams Way\, Newark\, DE\, 19702\, United States
CATEGORIES:Bear-Glasgow YMCA
END:VEVENT
END:VCALENDAR