BEGIN:VCALENDAR
VERSION:2.0
PRODID:-//YMCA of Delaware - ECPv6.15.17.1//NONSGML v1.0//EN
CALSCALE:GREGORIAN
METHOD:PUBLISH
X-WR-CALNAME:YMCA of Delaware
X-ORIGINAL-URL:https://www.ymcade.org
X-WR-CALDESC:Events for YMCA of Delaware
REFRESH-INTERVAL;VALUE=DURATION:PT1H
X-Robots-Tag:noindex
X-PUBLISHED-TTL:PT1H
BEGIN:VTIMEZONE
TZID:UTC
BEGIN:STANDARD
TZOFFSETFROM:+0000
TZOFFSETTO:+0000
TZNAME:UTC
DTSTART:20240101T000000
END:STANDARD
END:VTIMEZONE
BEGIN:VEVENT
DTSTART;VALUE=DATE:20250124
DTEND;VALUE=DATE:20250131
DTSTAMP:20260423T235856
CREATED:20250109T162025Z
LAST-MODIFIED:20250109T162025Z
UID:10000482-1737676800-1738281599@www.ymcade.org
SUMMARY:Summer Camp Registration
DESCRIPTION:Registration opens for the 2025 Summer Camp Season! \nGo here to register and learn more about Camp Cassey.
URL:https://www.ymcade.org/event/summer-camp-registration/
LOCATION:Bear-Glasgow Family YMCA\, 351 George Williams Way\, Newark\, DE\, 19702\, United States
CATEGORIES:Bear-Glasgow YMCA
END:VEVENT
BEGIN:VEVENT
DTSTART;VALUE=DATE:20250124
DTEND;VALUE=DATE:20250131
DTSTAMP:20260423T235856
CREATED:20250109T162218Z
LAST-MODIFIED:20250109T162218Z
UID:10000483-1737676800-1738281599@www.ymcade.org
SUMMARY:Spring Program Registration
DESCRIPTION:Head here to register and learn more about Bear-Glasgow spring programs.
URL:https://www.ymcade.org/event/spring-program-registration/
LOCATION:Bear-Glasgow Family YMCA\, 351 George Williams Way\, Newark\, DE\, 19702\, United States
CATEGORIES:Bear-Glasgow YMCA
END:VEVENT
END:VCALENDAR