BEGIN:VCALENDAR
VERSION:2.0
PRODID:-//YMCA of Delaware - ECPv6.15.17.1//NONSGML v1.0//EN
CALSCALE:GREGORIAN
METHOD:PUBLISH
X-WR-CALNAME:YMCA of Delaware
X-ORIGINAL-URL:https://www.ymcade.org
X-WR-CALDESC:Events for YMCA of Delaware
REFRESH-INTERVAL;VALUE=DURATION:PT1H
X-Robots-Tag:noindex
X-PUBLISHED-TTL:PT1H
BEGIN:VTIMEZONE
TZID:UTC
BEGIN:STANDARD
TZOFFSETFROM:+0000
TZOFFSETTO:+0000
TZNAME:UTC
DTSTART:20250101T000000
END:STANDARD
END:VTIMEZONE
BEGIN:VEVENT
DTSTART;TZID=UTC:20260306T170000
DTEND;TZID=UTC:20260306T183000
DTSTAMP:20260423T094350
CREATED:20260227T220228Z
LAST-MODIFIED:20260301T162253Z
UID:10001113-1772816400-1772821800@www.ymcade.org
SUMMARY:Family STEM Night
DESCRIPTION:The Dover Y invites members to join for a free\, family-friendly STEM event! \nFamilies will build Lucky Leprechaun Traps in the YMCA’s new STEM Studio\, combining creativity\, teamwork\, and St. Patrick’s Day–themed fun.
URL:https://www.ymcade.org/event/family-stem-night/
LOCATION:Dover YMCA\, 1137 South State Street\, Dover\, DE\, 19901
CATEGORIES:Dover YMCA
END:VEVENT
BEGIN:VEVENT
DTSTART;VALUE=DATE:20260317
DTEND;VALUE=DATE:20260318
DTSTAMP:20260423T094350
CREATED:20260227T213159Z
LAST-MODIFIED:20260227T213159Z
UID:10001105-1773705600-1773791999@www.ymcade.org
SUMMARY:St. Patrick's Day
DESCRIPTION:Join us this St. Patrick’s Day for our Lucky Leprechaun Workouts — where every class comes with a little extra fun and chances to win random prizes just for showing up and moving! \nPlus\, make sure you grab a Green Smoothie! Check with the membership desk for more info!
URL:https://www.ymcade.org/event/st-patricks-day-2/
LOCATION:Bear-Glasgow Family YMCA\, 351 George Williams Way\, Newark\, DE\, 19702\, United States
CATEGORIES:Association-Wide,Bear-Glasgow YMCA,Brandywine YMCA,Central YMCA,Dover YMCA,Middletown YMCA,Sussex YMCA,Western YMCA
END:VEVENT
BEGIN:VEVENT
DTSTART;TZID=UTC:20260320T170000
DTEND;TZID=UTC:20260320T200000
DTSTAMP:20260423T094350
CREATED:20260227T215808Z
LAST-MODIFIED:20260227T215845Z
UID:10001112-1774026000-1774036800@www.ymcade.org
SUMMARY:Parents Night Out: Ninja Night Out!
DESCRIPTION:Children ages 2–12 can enjoy an evening of pizza\, games\, fun\, and crafts while parents take time for themselves. \nRegistration closes at 12 PM on March 18th. Register here! \nThe cost is $25 for the first child and $15 for each additional child.
URL:https://www.ymcade.org/event/parents-night-out-ninja-night-out/
LOCATION:Dover YMCA\, 1137 South State Street\, Dover\, DE\, 19901
CATEGORIES:Dover YMCA
END:VEVENT
BEGIN:VEVENT
DTSTART;TZID=UTC:20260328T120000
DTEND;TZID=UTC:20260328T160000
DTSTAMP:20260423T094350
CREATED:20260227T220449Z
LAST-MODIFIED:20260301T162339Z
UID:10001114-1774699200-1774713600@www.ymcade.org
SUMMARY:Next Gen Healthcare Event
DESCRIPTION:Join the Dover YMCA for a community wellness fair. \nThe event brings together dozens of community partners offering health resources\, support services\, prizes\, and family-friendly activities\, all focused on wellness\, access\, and connection. \nThis event is open to the community.
URL:https://www.ymcade.org/event/next-gen-healthcare-event/
LOCATION:Dover YMCA\, 1137 South State Street\, Dover\, DE\, 19901
CATEGORIES:Dover YMCA
END:VEVENT
END:VCALENDAR