BEGIN:VCALENDAR
VERSION:2.0
PRODID:-//YMCA of Delaware - ECPv6.15.17.1//NONSGML v1.0//EN
CALSCALE:GREGORIAN
METHOD:PUBLISH
X-WR-CALNAME:YMCA of Delaware
X-ORIGINAL-URL:https://www.ymcade.org
X-WR-CALDESC:Events for YMCA of Delaware
REFRESH-INTERVAL;VALUE=DURATION:PT1H
X-Robots-Tag:noindex
X-PUBLISHED-TTL:PT1H
BEGIN:VTIMEZONE
TZID:UTC
BEGIN:STANDARD
TZOFFSETFROM:+0000
TZOFFSETTO:+0000
TZNAME:UTC
DTSTART:20250101T000000
END:STANDARD
END:VTIMEZONE
BEGIN:VEVENT
DTSTART;TZID=UTC:20260320T170000
DTEND;TZID=UTC:20260320T200000
DTSTAMP:20260423T133329
CREATED:20260227T215808Z
LAST-MODIFIED:20260227T215845Z
UID:10001112-1774026000-1774036800@www.ymcade.org
SUMMARY:Parents Night Out: Ninja Night Out!
DESCRIPTION:Children ages 2–12 can enjoy an evening of pizza\, games\, fun\, and crafts while parents take time for themselves. \nRegistration closes at 12 PM on March 18th. Register here! \nThe cost is $25 for the first child and $15 for each additional child.
URL:https://www.ymcade.org/event/parents-night-out-ninja-night-out/
LOCATION:Dover YMCA\, 1137 South State Street\, Dover\, DE\, 19901
CATEGORIES:Dover YMCA
END:VEVENT
END:VCALENDAR