BEGIN:VCALENDAR
VERSION:2.0
PRODID:-//YMCA of Delaware - ECPv6.15.20//NONSGML v1.0//EN
CALSCALE:GREGORIAN
METHOD:PUBLISH
X-ORIGINAL-URL:https://www.ymcade.org
X-WR-CALDESC:Events for YMCA of Delaware
REFRESH-INTERVAL;VALUE=DURATION:PT1H
X-Robots-Tag:noindex
X-PUBLISHED-TTL:PT1H
BEGIN:VTIMEZONE
TZID:UTC
BEGIN:STANDARD
TZOFFSETFROM:+0000
TZOFFSETTO:+0000
TZNAME:UTC
DTSTART:20240101T000000
END:STANDARD
END:VTIMEZONE
BEGIN:VEVENT
DTSTART;TZID=UTC:20250103T170000
DTEND;TZID=UTC:20250103T170000
DTSTAMP:20260425T145856
CREATED:20241217T134433Z
LAST-MODIFIED:20241220T154800Z
UID:10000445-1735923600-1735923600@www.ymcade.org
SUMMARY:Blue Coats Play Day
DESCRIPTION:Get ready to shoot hoops with the pros! The Delaware Blue Coats are hosting a FREE basketball clinic at the YMCA. This exciting event offers young athletes\, aged 5 to 14 years old\, a chance to improve their skills\, learn from the experts\, and have fun on the court. Don’t miss this slam dunk opportunity to take your game to the next level! \nBlue Coats Play Day is available to YMCA of Delaware members and non-members. \nRegistration is required. Register here.
URL:https://www.ymcade.org/event/blue-coats-play-day/
LOCATION:Brandywine YMCA\, 3 Mount Lebanon Road\, Wilmington\, DE\, 19803
CATEGORIES:Bear-Glasgow YMCA,Brandywine YMCA,Central YMCA,Middletown YMCA,Walnut Street YMCA,Western YMCA
END:VEVENT
BEGIN:VEVENT
DTSTART;TZID=UTC:20250107T183000
DTEND;TZID=UTC:20250107T200000
DTSTAMP:20260425T145856
CREATED:20241227T164649Z
LAST-MODIFIED:20241227T164649Z
UID:10000465-1736274600-1736280000@www.ymcade.org
SUMMARY:Brandywine Social Club
DESCRIPTION:Planning meeting. Eat before you come or bring dinner & eat with friends. Snacks will be provided.
URL:https://www.ymcade.org/event/brandywine-social-club-7/
LOCATION:Brandywine YMCA\, 3 Mount Lebanon Road\, Wilmington\, DE\, 19803
CATEGORIES:Brandywine YMCA
END:VEVENT
BEGIN:VEVENT
DTSTART;TZID=UTC:20250109T090000
DTEND;TZID=UTC:20250109T110000
DTSTAMP:20260425T145856
CREATED:20241227T164846Z
LAST-MODIFIED:20241227T164846Z
UID:10000466-1736413200-1736420400@www.ymcade.org
SUMMARY:Law Enforcement Appreciation Day
DESCRIPTION:Join us as we show our gratitude to officers for their service to our community. \nWe will have coffee and treats in our Lobby from 9 – 11 a.m.
URL:https://www.ymcade.org/event/law-enforcement-appreciation-day/
LOCATION:Brandywine YMCA\, 3 Mount Lebanon Road\, Wilmington\, DE\, 19803
CATEGORIES:Brandywine YMCA
END:VEVENT
BEGIN:VEVENT
DTSTART;TZID=UTC:20250110T173000
DTEND;TZID=UTC:20250110T200000
DTSTAMP:20260425T145856
CREATED:20241227T165136Z
LAST-MODIFIED:20241227T165136Z
UID:10000467-1736530200-1736539200@www.ymcade.org
SUMMARY:Teen Night
DESCRIPTION:Grades 6 – 12 \nHang out with friends and make new ones! \nPlay basketball\, swim\, and workout! \nDinner is provided. FREE to the community!
URL:https://www.ymcade.org/event/teen-night-10/
LOCATION:Brandywine YMCA\, 3 Mount Lebanon Road\, Wilmington\, DE\, 19803
CATEGORIES:Brandywine YMCA
END:VEVENT
BEGIN:VEVENT
DTSTART;VALUE=DATE:20250111
DTEND;VALUE=DATE:20250113
DTSTAMP:20260425T145856
CREATED:20241227T150652Z
LAST-MODIFIED:20241227T150652Z
UID:10000457-1736553600-1736726399@www.ymcade.org
SUMMARY:Les Mills Launch Party
DESCRIPTION:Kick off the new year with energy and excitement by joining us for a weekend packed with fresh music\, cutting-edge workouts\, and an opportunity to experience our new Les Mills group fitness workouts from BODYPUMP\, BODYCOMBAT\, and more! \nSee Daxko app for modified group exercise class schedule.
URL:https://www.ymcade.org/event/les-mills-launch-party-2/
LOCATION:Western YMCA\, 2600 Capitol Trail\, Newark\, DE\, 19711
CATEGORIES:Western YMCA
END:VEVENT
BEGIN:VEVENT
DTSTART;VALUE=DATE:20250111
DTEND;VALUE=DATE:20250113
DTSTAMP:20260425T145856
CREATED:20241227T165424Z
LAST-MODIFIED:20241227T165424Z
UID:10000469-1736553600-1736726399@www.ymcade.org
SUMMARY:Les Mills Launch Party
DESCRIPTION:Join us for new music and new moves coming to your favorite classes during Les Mills™️ Launch Workout week! \nYou’ll be sure to have tons of fun and experience great workouts!
URL:https://www.ymcade.org/event/les-mills-launch-party-3/
LOCATION:Brandywine YMCA\, 3 Mount Lebanon Road\, Wilmington\, DE\, 19803
CATEGORIES:Brandywine YMCA
END:VEVENT
BEGIN:VEVENT
DTSTART;VALUE=DATE:20250111
DTEND;VALUE=DATE:20250113
DTSTAMP:20260425T145856
CREATED:20250109T161236Z
LAST-MODIFIED:20250109T161236Z
UID:10000478-1736553600-1736726399@www.ymcade.org
SUMMARY:Les Mills Launch
DESCRIPTION:*See Group Class Schedule* \nGet a first sneak peak of the new Les Mills routines for the upcoming quarter. New music and new moves to learn! Stop by the front desk to get an updated group exercise schedule.
URL:https://www.ymcade.org/event/les-mills-launch-2/
LOCATION:Bear-Glasgow Family YMCA\, 351 George Williams Way\, Newark\, DE\, 19702\, United States
CATEGORIES:Bear-Glasgow YMCA
END:VEVENT
BEGIN:VEVENT
DTSTART;TZID=UTC:20250111T180000
DTEND;TZID=UTC:20250111T200000
DTSTAMP:20260425T145856
CREATED:20250109T161535Z
LAST-MODIFIED:20250109T161535Z
UID:10000479-1736618400-1736625600@www.ymcade.org
SUMMARY:Teen Night
DESCRIPTION:Join us from 6 PM to 8 PM for a FREE evening of cool activities and a time to make awesome friends! \nWe’ve got something special for everyone. All teens must be picked up promptly at 8 PM.
URL:https://www.ymcade.org/event/teen-night-12/2025-01-11/
LOCATION:Bear-Glasgow Family YMCA\, 351 George Williams Way\, Newark\, DE\, 19702\, United States
CATEGORIES:Bear-Glasgow YMCA
END:VEVENT
BEGIN:VEVENT
DTSTART;VALUE=DATE:20250112
DTEND;VALUE=DATE:20250113
DTSTAMP:20260425T145856
CREATED:20241227T151104Z
LAST-MODIFIED:20241227T151104Z
UID:10000458-1736640000-1736726399@www.ymcade.org
SUMMARY:Transformation Challenge Begins
DESCRIPTION:Ready to transform your health and fitness? Join our 8-week Transformation Challenge and compete for the biggest change in body fat loss! \nCan you take home the title? \nREGISTER by January 8th to qualify. \n 
URL:https://www.ymcade.org/event/transformation-challenge-begins/
LOCATION:Western YMCA\, 2600 Capitol Trail\, Newark\, DE\, 19711
CATEGORIES:Western YMCA
END:VEVENT
BEGIN:VEVENT
DTSTART;TZID=UTC:20250115T110000
DTEND;TZID=UTC:20250115T120000
DTSTAMP:20260425T145856
CREATED:20241223T213110Z
LAST-MODIFIED:20241224T150156Z
UID:10000447-1736938800-1736942400@www.ymcade.org
SUMMARY:Social Club
DESCRIPTION:The Sussex Family YMCA invites you to our Social Club gathering to discuss topics important to our members! \nAt each social\, we will offer coffee\, tea\, and snacks. \nThis social’s topic: Your YMCA\, Your Way: How to Maximize Membership \nThe La Red mobile health unit will also be on site from 9 a.m. – 6 p.m. to serve our members. \nLet’s fellowship\, learn\, and grow together! \nStop by the Membership Desk to learn more\, we can’t wait to see you there!
URL:https://www.ymcade.org/event/social-club/
LOCATION:Sussex YMCA\, 20080 Church Street\, Rehoboth Beach\, DE\, 19971\, United States
CATEGORIES:Sussex YMCA
END:VEVENT
BEGIN:VEVENT
DTSTART;VALUE=DATE:20250117
DTEND;VALUE=DATE:20250118
DTSTAMP:20260425T145856
CREATED:20241227T152533Z
LAST-MODIFIED:20241227T152533Z
UID:10000459-1737072000-1737158399@www.ymcade.org
SUMMARY:National Popcorn Day
DESCRIPTION:Pop\, pop\, hooray! \nIt’s National Popcorn Day at the Y! Come join us for a snack-tacular celebration—because nothing says ‘good vibes’ like a handful of popcorn and great company. Let’s crunch and munch together!
URL:https://www.ymcade.org/event/national-popcorn-day/
LOCATION:Western YMCA\, 2600 Capitol Trail\, Newark\, DE\, 19711
CATEGORIES:Western YMCA
END:VEVENT
BEGIN:VEVENT
DTSTART;VALUE=DATE:20250117
DTEND;VALUE=DATE:20250118
DTSTAMP:20260425T145856
CREATED:20250109T161716Z
LAST-MODIFIED:20250109T161716Z
UID:10000481-1737072000-1737158399@www.ymcade.org
SUMMARY:Popcorn Day
DESCRIPTION:Join us in the lobby for a poppin’ good time with complimentary popcorn for all our amazing members!
URL:https://www.ymcade.org/event/popcorn-day/
LOCATION:Bear-Glasgow Family YMCA\, 351 George Williams Way\, Newark\, DE\, 19702\, United States
CATEGORIES:Bear-Glasgow YMCA
END:VEVENT
BEGIN:VEVENT
DTSTART;TZID=UTC:20250117T100000
DTEND;TZID=UTC:20250117T113000
DTSTAMP:20260425T145856
CREATED:20250115T142925Z
LAST-MODIFIED:20250115T142925Z
UID:10000484-1737108000-1737113400@www.ymcade.org
SUMMARY:MLK Prayer Breakfast
DESCRIPTION:The MLK Prayer Breakfast will feature recording artist and songwriter Ashli Rice and elected officials\, including U.S. Representative Sarah McBride and Delaware State Representative Rae Moore. \nThis inspiring event will feature food\, fellowship\, and prayer. The Prayer Breakfast\, free and open to the community\, aims to provide a meaningful space to reflect on Dr. King’s legacy of equality\, unity\, and service\, aligning with the Y’s core tenets.
URL:https://www.ymcade.org/event/mlk-prayer-breakfast/
LOCATION:Middletown YMCA\, 202 E. Cochran St\, Middletown\, DE\, 19709\, United States
CATEGORIES:Middletown YMCA
END:VEVENT
BEGIN:VEVENT
DTSTART;TZID=UTC:20250117T160000
DTEND;TZID=UTC:20250117T210000
DTSTAMP:20260425T145856
CREATED:20241227T165740Z
LAST-MODIFIED:20241227T165811Z
UID:10000470-1737129600-1737147600@www.ymcade.org
SUMMARY:National Popcorn Day
DESCRIPTION:Popcorn has a long history\, dating back to ancient civilizations in the Americas\, and has remained a cherished treat to this day. Swing by the Lobby and grab a tasty treat as we celebrate National Popcorn Day while supplies last!
URL:https://www.ymcade.org/event/national-popcorn-day-2/
LOCATION:Brandywine YMCA\, 3 Mount Lebanon Road\, Wilmington\, DE\, 19803
CATEGORIES:Brandywine YMCA
END:VEVENT
BEGIN:VEVENT
DTSTART;TZID=UTC:20250117T173000
DTEND;TZID=UTC:20250117T203000
DTSTAMP:20260425T145856
CREATED:20241227T170026Z
LAST-MODIFIED:20241227T170026Z
UID:10000471-1737135000-1737145800@www.ymcade.org
SUMMARY:Parents Night Out
DESCRIPTION:Ages 3 – 12 (please be potty trained) \nParents – have a night on the town or enjoy a movie night at home. \nKids will enjoy pizza\, crafts\, games\, the bounce house\, and movies.
URL:https://www.ymcade.org/event/parents-night-out-6/
LOCATION:Brandywine YMCA\, 3 Mount Lebanon Road\, Wilmington\, DE\, 19803
CATEGORIES:Brandywine YMCA
END:VEVENT
BEGIN:VEVENT
DTSTART;VALUE=DATE:20250120
DTEND;VALUE=DATE:20250121
DTSTAMP:20260425T145856
CREATED:20241227T152829Z
LAST-MODIFIED:20241227T152829Z
UID:10000460-1737331200-1737417599@www.ymcade.org
SUMMARY:MLK Day Open House
DESCRIPTION:This MLK Day\, we’re opening our doors to the community to celebrate unity\, service\, and progress. \nLet’s come together for a day of inspiration\, reflection\, and fun!
URL:https://www.ymcade.org/event/mlk-day-open-house/
LOCATION:Western YMCA\, 2600 Capitol Trail\, Newark\, DE\, 19711
CATEGORIES:Western YMCA
END:VEVENT
BEGIN:VEVENT
DTSTART;VALUE=DATE:20250120
DTEND;VALUE=DATE:20250121
DTSTAMP:20260425T145856
CREATED:20241227T170438Z
LAST-MODIFIED:20241227T170438Z
UID:10000473-1737331200-1737417599@www.ymcade.org
SUMMARY:MLK Day Open House
DESCRIPTION:Join our Community Open House! \nBring your friends and family for FREE as we offer\, family swim\, group exercise\, and open basketball.
URL:https://www.ymcade.org/event/mlk-day-open-house-2/
LOCATION:Brandywine YMCA\, 3 Mount Lebanon Road\, Wilmington\, DE\, 19803
CATEGORIES:Brandywine YMCA
END:VEVENT
BEGIN:VEVENT
DTSTART;VALUE=DATE:20250120
DTEND;VALUE=DATE:20250121
DTSTAMP:20260425T145856
CREATED:20250109T160012Z
LAST-MODIFIED:20250109T160012Z
UID:10000477-1737331200-1737417599@www.ymcade.org
SUMMARY:MLK Day Open House
DESCRIPTION:Celebrate MLK Day with us! \nOn Monday\, January 20th\, all YMCA of Delaware locations will be OPEN TO THE COMMUNITY for FREE! \nBring your family and friends for a day filled with fun\, fitness\, and family-friendly activities!
URL:https://www.ymcade.org/event/mlk-day-open-house-3/
LOCATION:YMCA of Delaware
CATEGORIES:Bear-Glasgow YMCA,Central YMCA,Dover YMCA,Middletown YMCA,Sussex YMCA
END:VEVENT
BEGIN:VEVENT
DTSTART;VALUE=DATE:20250120
DTEND;VALUE=DATE:20250121
DTSTAMP:20260425T145856
CREATED:20250115T144006Z
LAST-MODIFIED:20250115T144006Z
UID:10000488-1737331200-1737417599@www.ymcade.org
SUMMARY:MLK Day Scavenger Hunt
DESCRIPTION:The Bear-Glasgow YMCA will hold an MLK Day Scavenger Hunt around the facility on January 20th and provide a healthy snack for community members.
URL:https://www.ymcade.org/event/mlk-day-scavenger-hunt/
LOCATION:Bear-Glasgow Family YMCA\, 351 George Williams Way\, Newark\, DE\, 19702\, United States
CATEGORIES:Bear-Glasgow YMCA
END:VEVENT
BEGIN:VEVENT
DTSTART;TZID=UTC:20250120T090000
DTEND;TZID=UTC:20250120T110000
DTSTAMP:20260425T145856
CREATED:20250115T143220Z
LAST-MODIFIED:20250115T143220Z
UID:10000485-1737363600-1737370800@www.ymcade.org
SUMMARY:Walnut Street YMCA Dream Garden Cleanup
DESCRIPTION:The Walnut Street YMCA will host an MLK Jr. Service Project\, “Hattie M. Phelan Community Dream Garden Cleanup\,” on Monday\, January 20th\, from 9:00 to 11:00 AM. This event aims to unite community members to reflect on Dr. Martin Luther King’s legacy\, celebrate the rich history of Black culture in the community\, and assist in keeping Wilmington beautiful. \n 
URL:https://www.ymcade.org/event/walnut-street-ymca-dream-garden-cleanup/
LOCATION:Walnut Street YMCA\, 1000 North Walnut Street\, Wilmington\, DE\, 19801\, United States
CATEGORIES:Walnut Street YMCA
END:VEVENT
BEGIN:VEVENT
DTSTART;TZID=UTC:20250120T090000
DTEND;TZID=UTC:20250120T120000
DTSTAMP:20260425T145856
CREATED:20250115T144339Z
LAST-MODIFIED:20250115T144339Z
UID:10000489-1737363600-1737374400@www.ymcade.org
SUMMARY:MLK Day Events
DESCRIPTION:The Sussex Family YMCA is collaborating with Beebe Healthcare to hold health screenings and educational sessions in the community room. on January 20th from 9 a.m. to 12 p.m. There will also be a “What’s Your Dream” wall for community member goal setting.
URL:https://www.ymcade.org/event/mlk-day-events-2/
LOCATION:Sussex YMCA\, 20080 Church Street\, Rehoboth Beach\, DE\, 19971\, United States
CATEGORIES:Sussex YMCA
END:VEVENT
BEGIN:VEVENT
DTSTART;TZID=UTC:20250120T090000
DTEND;TZID=UTC:20250120T130000
DTSTAMP:20260425T145856
CREATED:20241227T170758Z
LAST-MODIFIED:20250115T143858Z
UID:10000474-1737363600-1737378000@www.ymcade.org
SUMMARY:Blood Drive
DESCRIPTION:We will be hosting a Blood Drive with the Blood Bank of Delmarva. \nThe BloodMobile will be in the Brandywine Y’s back parking lot. Walk-ins are welcome\, registrations are preferred. Those willing to donate can register here.
URL:https://www.ymcade.org/event/blood-drive/
LOCATION:Brandywine YMCA\, 3 Mount Lebanon Road\, Wilmington\, DE\, 19803
CATEGORIES:Brandywine YMCA
END:VEVENT
BEGIN:VEVENT
DTSTART;TZID=UTC:20250120T100000
DTEND;TZID=UTC:20250120T130000
DTSTAMP:20260425T145856
CREATED:20250115T143743Z
LAST-MODIFIED:20250115T143743Z
UID:10000487-1737367200-1737378000@www.ymcade.org
SUMMARY:MLK Day Events
DESCRIPTION:The Dover YMCA will host an “I Have A Dream” vision board event on January 20th. During this event\, community members can set goals for improving themselves in 2025. Instructor-led demos for adult swimming and Yoga will also be held. \nSchedule of Events: \n\nAdult Swimming Demo | 10 a.m.\nYoga | 11:15 a.m.\nVision Board | 12 – 1 p.m.
URL:https://www.ymcade.org/event/mlk-day-events/
LOCATION:Dover YMCA\, 1137 South State Street\, Dover\, DE\, 19901
CATEGORIES:Dover YMCA
END:VEVENT
BEGIN:VEVENT
DTSTART;TZID=UTC:20250120T120000
DTEND;TZID=UTC:20250120T140000
DTSTAMP:20260425T145856
CREATED:20250115T143429Z
LAST-MODIFIED:20250115T143429Z
UID:10000486-1737374400-1737381600@www.ymcade.org
SUMMARY:MLK Birthday Celebration
DESCRIPTION:The Walnut Street Y will host the 36th Annual Martin Luther King Jr. Birthday Party from 12:00 to 2:00 PM. This event is open to the community and aims to unite community members to reflect on Dr. Martin Luther King’s legacy and celebrate the rich history of Black culture in Wilmington.
URL:https://www.ymcade.org/event/mlk-birthday-celebration/
LOCATION:Walnut Street YMCA\, 1000 North Walnut Street\, Wilmington\, DE\, 19801\, United States
CATEGORIES:Walnut Street YMCA
END:VEVENT
BEGIN:VEVENT
DTSTART;VALUE=DATE:20250124
DTEND;VALUE=DATE:20250131
DTSTAMP:20260425T145856
CREATED:20250109T162025Z
LAST-MODIFIED:20250109T162025Z
UID:10000482-1737676800-1738281599@www.ymcade.org
SUMMARY:Summer Camp Registration
DESCRIPTION:Registration opens for the 2025 Summer Camp Season! \nGo here to register and learn more about Camp Cassey.
URL:https://www.ymcade.org/event/summer-camp-registration/
LOCATION:Bear-Glasgow Family YMCA\, 351 George Williams Way\, Newark\, DE\, 19702\, United States
CATEGORIES:Bear-Glasgow YMCA
END:VEVENT
BEGIN:VEVENT
DTSTART;VALUE=DATE:20250124
DTEND;VALUE=DATE:20250131
DTSTAMP:20260425T145856
CREATED:20250109T162218Z
LAST-MODIFIED:20250109T162218Z
UID:10000483-1737676800-1738281599@www.ymcade.org
SUMMARY:Spring Program Registration
DESCRIPTION:Head here to register and learn more about Bear-Glasgow spring programs.
URL:https://www.ymcade.org/event/spring-program-registration/
LOCATION:Bear-Glasgow Family YMCA\, 351 George Williams Way\, Newark\, DE\, 19702\, United States
CATEGORIES:Bear-Glasgow YMCA
END:VEVENT
BEGIN:VEVENT
DTSTART;TZID=UTC:20250124T164500
DTEND;TZID=UTC:20250124T200000
DTSTAMP:20260425T145856
CREATED:20241227T153734Z
LAST-MODIFIED:20241227T153734Z
UID:10000463-1737737100-1737748800@www.ymcade.org
SUMMARY:Teen Night: Youth Development Center
DESCRIPTION: Ages 12-17 \nJoin our YMCA staff for fun activities\, games and guest speakers while learning tools to become the leaders of tomorrow. \n 
URL:https://www.ymcade.org/event/teen-night-youth-development-center/
LOCATION:Western YMCA\, 2600 Capitol Trail\, Newark\, DE\, 19711
CATEGORIES:Western YMCA
END:VEVENT
BEGIN:VEVENT
DTSTART;TZID=UTC:20250124T170000
DTEND;TZID=UTC:20250124T200000
DTSTAMP:20260425T145856
CREATED:20241227T154401Z
LAST-MODIFIED:20241227T154401Z
UID:10000464-1737738000-1737748800@www.ymcade.org
SUMMARY:Parents Night Out: Youth Development Center
DESCRIPTION:Ages 3 – 11 \nDrop your kids off at the YMCA and enjoy an evening out! Your kids will enjoy games\, pizza\, group activities and more! \n\n$30 per child \n$20 per additional sibling\n\n 
URL:https://www.ymcade.org/event/parents-night-out-youth-development-center/
LOCATION:Western YMCA\, 2600 Capitol Trail\, Newark\, DE\, 19711
CATEGORIES:Western YMCA
END:VEVENT
BEGIN:VEVENT
DTSTART;TZID=UTC:20250124T173000
DTEND;TZID=UTC:20250124T200000
DTSTAMP:20260425T145856
CREATED:20241227T165243Z
LAST-MODIFIED:20241227T165243Z
UID:10000468-1737739800-1737748800@www.ymcade.org
SUMMARY:Teen Night
DESCRIPTION:Grades 6 – 12 \nHang out with friends and make new ones! \nPlay basketball\, swim\, and workout! \nDinner is provided. FREE to the community!
URL:https://www.ymcade.org/event/teen-night-11/
LOCATION:Brandywine YMCA\, 3 Mount Lebanon Road\, Wilmington\, DE\, 19803
CATEGORIES:Brandywine YMCA
END:VEVENT
BEGIN:VEVENT
DTSTART;TZID=UTC:20250124T180000
DTEND;TZID=UTC:20250124T200000
DTSTAMP:20260425T145856
CREATED:20250109T155714Z
LAST-MODIFIED:20250121T194826Z
UID:10000476-1737741600-1737748800@www.ymcade.org
SUMMARY:2025 Beach Party
DESCRIPTION:Summer vibes in January? Yes\, please! \nJoin us for our annual Beach Party!\nIt’s a family-friendly event\, a perfect way to escape the winter blues with fun activities for kids and a sneak peek into our 2025 Summer Camps.\n\nOpen to the community – bring your friends and family!\n\nFind your Y Summer Camp location HERE! \n\nGet ready for sand\, smiles\, and summer dreams in the middle of winter!
URL:https://www.ymcade.org/event/2025-beach-party/
LOCATION:Bear-Glasgow Family YMCA\, 351 George Williams Way\, Newark\, DE\, 19702\, United States
CATEGORIES:Bear-Glasgow YMCA,Brandywine YMCA,Dover YMCA,Middletown YMCA,Sussex YMCA,Walnut Street YMCA,Western YMCA
END:VEVENT
END:VCALENDAR