BEGIN:VCALENDAR
VERSION:2.0
PRODID:-//YMCA of Delaware - ECPv6.15.17.1//NONSGML v1.0//EN
CALSCALE:GREGORIAN
METHOD:PUBLISH
X-WR-CALNAME:YMCA of Delaware
X-ORIGINAL-URL:https://www.ymcade.org
X-WR-CALDESC:Events for YMCA of Delaware
REFRESH-INTERVAL;VALUE=DURATION:PT1H
X-Robots-Tag:noindex
X-PUBLISHED-TTL:PT1H
BEGIN:VTIMEZONE
TZID:UTC
BEGIN:STANDARD
TZOFFSETFROM:+0000
TZOFFSETTO:+0000
TZNAME:UTC
DTSTART:20240101T000000
END:STANDARD
END:VTIMEZONE
BEGIN:VEVENT
DTSTART;VALUE=DATE:20250301
DTEND;VALUE=DATE:20250302
DTSTAMP:20260422T162936
CREATED:20250204T164912Z
LAST-MODIFIED:20250204T204723Z
UID:10000643-1740787200-1740873599@www.ymcade.org
SUMMARY:Before & After School Care Early Registration
DESCRIPTION:Summer is just around the corner\, which means it’s time to get your childcare plans set for the 2025-2026 school year. \nThe YMCA of Delaware is committed to providing children with a safe and positive experience while promoting unity\, acceptance\, and fostering a sense of self. \nLearn more about Before & After School Care at the Y and how to register here. \nMembers only. Non-member registration opens April 4th.
URL:https://www.ymcade.org/event/before-after-school-care-early-registration/
LOCATION:Bear-Glasgow Family YMCA\, 351 George Williams Way\, Newark\, DE\, 19702\, United States
CATEGORIES:Association-Wide,Bear-Glasgow YMCA,Brandywine YMCA,Central YMCA,Dover YMCA,Middletown YMCA,Sussex YMCA,Walnut Street YMCA,Western YMCA,Youth
END:VEVENT
BEGIN:VEVENT
DTSTART;VALUE=DATE:20250301
DTEND;VALUE=DATE:20250302
DTSTAMP:20260422T162936
CREATED:20250228T162309Z
LAST-MODIFIED:20250228T162309Z
UID:10000659-1740787200-1740873599@www.ymcade.org
SUMMARY:Share a Smile Day
DESCRIPTION:Share a Smile Day is celebrated on March 1st. It’s a day to spread happiness and positivity by sharing a smile with others. \nIt doesn’t take too much to change the world all you have to do is send them a smile!
URL:https://www.ymcade.org/event/share-a-smile-day/
LOCATION:Middletown YMCA\, 202 E. Cochran St\, Middletown\, DE\, 19709\, United States
CATEGORIES:Middletown YMCA
END:VEVENT
BEGIN:VEVENT
DTSTART;VALUE=DATE:20250301
DTEND;VALUE=DATE:20250318
DTSTAMP:20260422T162936
CREATED:20250228T165928Z
LAST-MODIFIED:20250303T154149Z
UID:10000667-1740787200-1742255999@www.ymcade.org
SUMMARY:Camp Lucky Day | Win A Free Week of Camp!
DESCRIPTION:Register for a YMCA of Delaware Day Camp from March 1st through 17th and be entered to win a FREE week of camp! \nRegister here!
URL:https://www.ymcade.org/event/camp-lucky-day-win-a-free-week-of-camp/
LOCATION:Bear-Glasgow Family YMCA\, 351 George Williams Way\, Newark\, DE\, 19702\, United States
CATEGORIES:Association-Wide,Bear-Glasgow YMCA,Brandywine YMCA,Dover YMCA,Middletown YMCA,Sussex YMCA,Walnut Street YMCA,Western YMCA
END:VEVENT
BEGIN:VEVENT
DTSTART;VALUE=DATE:20250301
DTEND;VALUE=DATE:20250401
DTSTAMP:20260422T162936
CREATED:20250228T162135Z
LAST-MODIFIED:20250228T162135Z
UID:10000658-1740787200-1743465599@www.ymcade.org
SUMMARY:March Fitness Challenge
DESCRIPTION:Earn a free shirt when you visit the YMCA 17 times in March and download the YMCA360 App. \nOpen to members 16+. \nMembers MUST REGISTER BY MARCH 10th at the front desk or online.
URL:https://www.ymcade.org/event/march-fitness-challenge/
LOCATION:Bear-Glasgow Family YMCA\, 351 George Williams Way\, Newark\, DE\, 19702\, United States
CATEGORIES:Association-Wide,Bear-Glasgow YMCA,Brandywine YMCA,Central YMCA,Dover YMCA,Middletown YMCA,Sussex YMCA,Western YMCA
END:VEVENT
BEGIN:VEVENT
DTSTART;VALUE=DATE:20250303
DTEND;VALUE=DATE:20250304
DTSTAMP:20260422T162936
CREATED:20250228T162429Z
LAST-MODIFIED:20250228T162429Z
UID:10000660-1740960000-1741046399@www.ymcade.org
SUMMARY:Read Across America Day
DESCRIPTION:Join us in celebrating Read Across America! Our childcare department will be offering complimentary children’s books in the lobby.  \nSupplies are limited\, so be sure to grab a book while they last!
URL:https://www.ymcade.org/event/read-across-america-day-2/
LOCATION:Middletown YMCA\, 202 E. Cochran St\, Middletown\, DE\, 19709\, United States
CATEGORIES:Middletown YMCA
END:VEVENT
BEGIN:VEVENT
DTSTART;VALUE=DATE:20250303
DTEND;VALUE=DATE:20250304
DTSTAMP:20260422T162936
CREATED:20250228T170107Z
LAST-MODIFIED:20250228T170107Z
UID:10000668-1740960000-1741046399@www.ymcade.org
SUMMARY:Read Across America Day
DESCRIPTION:We will be offering complimentary children’s books in the lobby. Supplies are limited\, so be sure to grab a book while they last!
URL:https://www.ymcade.org/event/read-across-america-day-3/
LOCATION:Bear-Glasgow Family YMCA\, 351 George Williams Way\, Newark\, DE\, 19702\, United States
CATEGORIES:Bear-Glasgow YMCA
END:VEVENT
BEGIN:VEVENT
DTSTART;TZID=UTC:20250303T100000
DTEND;TZID=UTC:20250303T123000
DTSTAMP:20260422T162936
CREATED:20250228T155643Z
LAST-MODIFIED:20250228T155643Z
UID:10000654-1740996000-1741005000@www.ymcade.org
SUMMARY:Read Across America Day
DESCRIPTION:Join us as we welcome Kirkwood Library to celebrate the joy of reading! They’ll be set up in the Lobby with a table full of books\, and you’ll have the chance to sign up for your very own library card! Whether you’re a bookworm or just looking to join a vibrant community\, this is a perfect opportunity to dive into new adventures. \nCome on over\, connect with the library\, and make reading a part of your world!
URL:https://www.ymcade.org/event/read-across-america-day/2025-03-03/1/
LOCATION:Western YMCA\, 2600 Capitol Trail\, Newark\, DE\, 19711
CATEGORIES:Western YMCA
END:VEVENT
BEGIN:VEVENT
DTSTART;TZID=UTC:20250303T163000
DTEND;TZID=UTC:20250303T183000
DTSTAMP:20260422T162936
CREATED:20250228T155643Z
LAST-MODIFIED:20250228T155643Z
UID:10000655-1741019400-1741026600@www.ymcade.org
SUMMARY:Read Across America Day
DESCRIPTION:Join us as we welcome Kirkwood Library to celebrate the joy of reading! They’ll be set up in the Lobby with a table full of books\, and you’ll have the chance to sign up for your very own library card! Whether you’re a bookworm or just looking to join a vibrant community\, this is a perfect opportunity to dive into new adventures. \nCome on over\, connect with the library\, and make reading a part of your world!
URL:https://www.ymcade.org/event/read-across-america-day/2025-03-03/2/
LOCATION:Western YMCA\, 2600 Capitol Trail\, Newark\, DE\, 19711
CATEGORIES:Western YMCA
END:VEVENT
BEGIN:VEVENT
DTSTART;TZID=UTC:20250307T090000
DTEND;TZID=UTC:20250307T110000
DTSTAMP:20260422T162936
CREATED:20250228T162640Z
LAST-MODIFIED:20250228T162640Z
UID:10000661-1741338000-1741345200@www.ymcade.org
SUMMARY:National Flapjack Day
DESCRIPTION:Join us for a flapjack in the lobby. \nThe day honors the sturdy\, wholesome cakes we’ve been cooking up for generations! \nRecipes handed down across generations continue to bring smiles to families nationwide.
URL:https://www.ymcade.org/event/national-flapjack-day/
LOCATION:Middletown YMCA\, 202 E. Cochran St\, Middletown\, DE\, 19709\, United States
CATEGORIES:Middletown YMCA
END:VEVENT
BEGIN:VEVENT
DTSTART;TZID=UTC:20250307T173000
DTEND;TZID=UTC:20250307T200000
DTSTAMP:20260422T162936
CREATED:20250306T031926Z
LAST-MODIFIED:20250306T032401Z
UID:10000681-1741368600-1741377600@www.ymcade.org
SUMMARY:Teen Night
DESCRIPTION:Come out and bring your friends to enjoy a night of chilling\, laughing\, food\, and fun! \nTeens can use the pool (they must bring swimwear)\, work out in the Fitness Center\, play basketball\, or just hang out! \nRegistration is not required and is open to the community. \nTeen Nights are FREE. YMCA membership is not required. \nA parent/guardian must check you in.
URL:https://www.ymcade.org/event/teen-night-16/2025-03-07/
LOCATION:Brandywine YMCA\, 3 Mount Lebanon Road\, Wilmington\, DE\, 19803
CATEGORIES:Brandywine YMCA
END:VEVENT
BEGIN:VEVENT
DTSTART;VALUE=DATE:20250308
DTEND;VALUE=DATE:20250316
DTSTAMP:20260422T162936
CREATED:20250306T031711Z
LAST-MODIFIED:20250306T031711Z
UID:10000680-1741392000-1742083199@www.ymcade.org
SUMMARY:Member Donor Week
DESCRIPTION:Member Donor Week recognizes the power of donations in helping the YMCA provide resources and support to our community. \nInterested in donating now? \nClick here to donate!
URL:https://www.ymcade.org/event/member-donor-week/
LOCATION:Brandywine YMCA\, 3 Mount Lebanon Road\, Wilmington\, DE\, 19803
CATEGORIES:Brandywine YMCA
END:VEVENT
BEGIN:VEVENT
DTSTART;TZID=UTC:20250308T080000
DTEND;TZID=UTC:20250308T100000
DTSTAMP:20260422T162936
CREATED:20250207T210220Z
LAST-MODIFIED:20250207T210220Z
UID:10000651-1741420800-1741428000@www.ymcade.org
SUMMARY:Cycle-A-Thon & Zumbathon
DESCRIPTION:Join us for our Cycle-A-Thon and Zumbathon hosted at the Brandywine YMCA! \n\n\nEvent Details: \n\nCycle – $35/hr or $50 for both!\nZumba – $25\n\nSpots are limited\, Register here. \nUnleash your support of the Brandywine YMCA Annual Campaign! \nWe are committed to the Delaware Promises and creating transformational impacts in our Brandywine YMCA communities. \nYour donations\, sponsorship and event participation help to bring the Delaware Promises into action.
URL:https://www.ymcade.org/event/cycle-a-thon-zumbathon/
LOCATION:Brandywine YMCA\, 3 Mount Lebanon Road\, Wilmington\, DE\, 19803
CATEGORIES:Brandywine YMCA
END:VEVENT
BEGIN:VEVENT
DTSTART;TZID=UTC:20250308T113000
DTEND;TZID=UTC:20250308T121500
DTSTAMP:20260422T162936
CREATED:20250306T030650Z
LAST-MODIFIED:20250306T030650Z
UID:10000677-1741433400-1741436100@www.ymcade.org
SUMMARY:International Women’s Day Celebration
DESCRIPTION:Celebrate International Women’s Day with a fun and empowering belly dance class in the Fitness Studio. \nNo registration required.
URL:https://www.ymcade.org/event/international-womens-day-celebration/
LOCATION:Dover YMCA\, 1137 South State Street\, Dover\, DE\, 19901
CATEGORIES:Dover YMCA
END:VEVENT
BEGIN:VEVENT
DTSTART;TZID=UTC:20250308T180000
DTEND;TZID=UTC:20250308T200000
DTSTAMP:20260422T162936
CREATED:20250228T170740Z
LAST-MODIFIED:20250228T170740Z
UID:10000669-1741456800-1741464000@www.ymcade.org
SUMMARY:Teen Night
DESCRIPTION:Join us from 6 to 8 p.m. for a FREE evening of cool activities and a time to make awesome friends\, we’ve got something special for everyone. \nAll teens (Grades 6-12) must be picked up promptly at 8 p.m.
URL:https://www.ymcade.org/event/teen-night-15/2025-03-08/
LOCATION:Bear-Glasgow Family YMCA\, 351 George Williams Way\, Newark\, DE\, 19702\, United States
CATEGORIES:Bear-Glasgow YMCA
END:VEVENT
BEGIN:VEVENT
DTSTART;TZID=UTC:20250309T020000
DTEND;TZID=UTC:20250309T023000
DTSTAMP:20260422T162936
CREATED:20250228T163012Z
LAST-MODIFIED:20250228T163012Z
UID:10000662-1741485600-1741487400@www.ymcade.org
SUMMARY:Daylight Saving Time
DESCRIPTION:Are you ready to go BACK TO THE FUTURE?!?!? \nGet ready to leap into the future when we set our clocks ahead 1 hour Sunday March 9th. \nHere comes the sun!
URL:https://www.ymcade.org/event/daylight-saving-time/
LOCATION:Middletown YMCA\, 202 E. Cochran St\, Middletown\, DE\, 19709\, United States
CATEGORIES:Middletown YMCA
END:VEVENT
BEGIN:VEVENT
DTSTART;VALUE=DATE:20250310
DTEND;VALUE=DATE:20250311
DTSTAMP:20260422T162936
CREATED:20250228T163457Z
LAST-MODIFIED:20250228T163457Z
UID:10000663-1741564800-1741651199@www.ymcade.org
SUMMARY:New YMCA360 App Launch
DESCRIPTION:Starting March 10\, all YMCA schedules will be available in the YMCA360 app—and you’ll use the app for check-in too! \nWHAT YOU NEED TO KNOW: \n• Beginning March 10\, you’ll find all schedules in the YMCA360 app. \n• The current Daxko App is going away! As of March 17\, schedules will only be available in YMCA360. \n• Log-in is required! To log in to the YMCA360 app you must have a valid email address on file with us. \nStop by the front desk or login to our member portal to confirm we have your correct email.
URL:https://www.ymcade.org/event/new-ymca360-app-launch/
LOCATION:Bear-Glasgow Family YMCA\, 351 George Williams Way\, Newark\, DE\, 19702\, United States
CATEGORIES:Association-Wide,Bear-Glasgow YMCA,Brandywine YMCA,Central YMCA,Dover YMCA,Middletown YMCA,Sussex YMCA,Walnut Street YMCA,Western YMCA
END:VEVENT
BEGIN:VEVENT
DTSTART;TZID=UTC:20250312T090000
DTEND;TZID=UTC:20250312T150000
DTSTAMP:20260422T162936
CREATED:20250303T205101Z
LAST-MODIFIED:20250303T205956Z
UID:10000675-1741770000-1741791600@www.ymcade.org
SUMMARY:Delmarva Blood Bank Mobile Drive
DESCRIPTION:Our friends from the Blood Bank of Delmarva will be back in our parking lot taking donations from 9 a.m. – 3 p.m. \nAppointments not needed but can be made here.
URL:https://www.ymcade.org/event/delmarva-blood-bank-mobile-drive/
LOCATION:Sussex YMCA\, 20080 Church Street\, Rehoboth Beach\, DE\, 19971\, United States
CATEGORIES:Sussex YMCA
END:VEVENT
BEGIN:VEVENT
DTSTART;TZID=UTC:20250312T173000
DTEND;TZID=UTC:20250312T193000
DTSTAMP:20260422T162936
CREATED:20250306T032119Z
LAST-MODIFIED:20250306T032119Z
UID:10000682-1741800600-1741807800@www.ymcade.org
SUMMARY:Brandywine Social Club - Bowling
DESCRIPTION:Paratransit pickup 7:30pm \nBowlerama | 3031 New Castle Ave. New Castle DE 19720 \n$4.50/game and FREE shoe rental \nBring extra money for any food/drink.
URL:https://www.ymcade.org/event/brandywine-social-club-bowling/
LOCATION:Bowlerama\, 3031 New Castle Ave\, New Castle\, DE\, 19720\, United States
CATEGORIES:Brandywine YMCA
END:VEVENT
BEGIN:VEVENT
DTSTART;VALUE=DATE:20250314
DTEND;VALUE=DATE:20250315
DTSTAMP:20260422T162936
CREATED:20250228T163626Z
LAST-MODIFIED:20250228T163626Z
UID:10000664-1741910400-1741996799@www.ymcade.org
SUMMARY:Children's Craft Day
DESCRIPTION:It’s children’s craft day! Stop and take the time to engage your child in a craft today\, or stop by our lobby and let us provide the craft for you!
URL:https://www.ymcade.org/event/childrens-craft-day/
LOCATION:Middletown YMCA\, 202 E. Cochran St\, Middletown\, DE\, 19709\, United States
CATEGORIES:Middletown YMCA
END:VEVENT
BEGIN:VEVENT
DTSTART;VALUE=DATE:20250317
DTEND;VALUE=DATE:20250318
DTSTAMP:20260422T162936
CREATED:20250204T161703Z
LAST-MODIFIED:20250204T161703Z
UID:10000639-1742169600-1742255999@www.ymcade.org
SUMMARY:St Patrick's Day
DESCRIPTION:Spend your St. Patrick’s Day at the Y! \nWe’ll have Lucky Leprechaun workouts with prizes up for grabs and green smoothies in the lobby! \nStop by the Membership desk for more information!
URL:https://www.ymcade.org/event/st-patricks-day/
LOCATION:Bear-Glasgow Family YMCA\, 351 George Williams Way\, Newark\, DE\, 19702\, United States
CATEGORIES:Association-Wide,Bear-Glasgow YMCA,Brandywine YMCA,Central YMCA,Dover YMCA,Middletown YMCA,Sussex YMCA,Western YMCA
END:VEVENT
BEGIN:VEVENT
DTSTART;TZID=UTC:20250319T090000
DTEND;TZID=UTC:20250319T120000
DTSTAMP:20260422T162936
CREATED:20250220T151036Z
LAST-MODIFIED:20250220T151036Z
UID:10000652-1742374800-1742385600@www.ymcade.org
SUMMARY:Women's Business EXPO
DESCRIPTION:We are highlighting local women-owned businesses in honor of Women’s History Month. Come check out some great local businesses! \nIf you are interested in participating please use this link to reserve your table. \nKnow of someone who would love to join us? Share with them\, too! \n 
URL:https://www.ymcade.org/event/womens-business-expo/2025-03-19/1/
LOCATION:Brandywine YMCA\, 3 Mount Lebanon Road\, Wilmington\, DE\, 19803
CATEGORIES:Brandywine YMCA
END:VEVENT
BEGIN:VEVENT
DTSTART;TZID=UTC:20250319T110000
DTEND;TZID=UTC:20250319T120000
DTSTAMP:20260422T162936
CREATED:20241224T144247Z
LAST-MODIFIED:20241224T144247Z
UID:10000449-1742382000-1742385600@www.ymcade.org
SUMMARY:Social Club
DESCRIPTION:The Sussex Family YMCA invites you to our Social Club gathering to discuss topics important to our members! \nAt each social\, we will offer coffee\, tea\, and snacks. \nThis social’s topic: National Nutrition Month \nThe La Red mobile health unit will also be on site from 9 a.m. – 6 p.m. to serve our members. \nLet’s fellowship\, learn\, and grow together! \nStop by the Membership Desk to learn more\, we can’t wait to see you there!
URL:https://www.ymcade.org/event/social-club-3/
LOCATION:Sussex YMCA\, 20080 Church Street\, Rehoboth Beach\, DE\, 19971\, United States
CATEGORIES:Sussex YMCA
END:VEVENT
BEGIN:VEVENT
DTSTART;TZID=UTC:20250319T170000
DTEND;TZID=UTC:20250319T190000
DTSTAMP:20260422T162936
CREATED:20250220T151036Z
LAST-MODIFIED:20250220T151036Z
UID:10000653-1742403600-1742410800@www.ymcade.org
SUMMARY:Women's Business EXPO
DESCRIPTION:We are highlighting local women-owned businesses in honor of Women’s History Month. Come check out some great local businesses! \nIf you are interested in participating please use this link to reserve your table. \nKnow of someone who would love to join us? Share with them\, too! \n 
URL:https://www.ymcade.org/event/womens-business-expo/2025-03-19/2/
LOCATION:Brandywine YMCA\, 3 Mount Lebanon Road\, Wilmington\, DE\, 19803
CATEGORIES:Brandywine YMCA
END:VEVENT
BEGIN:VEVENT
DTSTART;TZID=UTC:20250319T183000
DTEND;TZID=UTC:20250319T200000
DTSTAMP:20260422T162936
CREATED:20250306T032241Z
LAST-MODIFIED:20250306T032241Z
UID:10000683-1742409000-1742414400@www.ymcade.org
SUMMARY:Brandywine Social Club
DESCRIPTION:Paratransit pickup 8:00pm \nBrandywine Hundred Library | 1300 Foulk Rd. Wilmington\, DE 19803 \nJoin us for fun crafts!
URL:https://www.ymcade.org/event/brandywine-social-club-8/
LOCATION:Brandywine Hundred Library\, 1300 Foulk Rd.\, Wilmington\, DE\, 19803\, United States
CATEGORIES:Brandywine YMCA
END:VEVENT
BEGIN:VEVENT
DTSTART;VALUE=DATE:20250320
DTEND;VALUE=DATE:20250321
DTSTAMP:20260422T162936
CREATED:20250228T163757Z
LAST-MODIFIED:20250228T163757Z
UID:10000665-1742428800-1742515199@www.ymcade.org
SUMMARY:Spring Equinox | First Day of Spring
DESCRIPTION:The spring equinox is when the sun is directly above the Earth’s equator\, and the Northern and Southern Hemispheres share the sun’s rays equally. This means that day and night are roughly the same length.
URL:https://www.ymcade.org/event/spring-equinox-first-day-of-spring/
LOCATION:Middletown YMCA\, 202 E. Cochran St\, Middletown\, DE\, 19709\, United States
CATEGORIES:Middletown YMCA
END:VEVENT
BEGIN:VEVENT
DTSTART;TZID=UTC:20250320T120000
DTEND;TZID=UTC:20250320T160000
DTSTAMP:20260422T162936
CREATED:20250228T171212Z
LAST-MODIFIED:20250303T154317Z
UID:10000671-1742472000-1742486400@www.ymcade.org
SUMMARY:Christiana Care Mobile Van
DESCRIPTION:The Mobile Health Services Van will provide same-day\, easy to access services such as:​ Vision Screenings\,​ Blood Pressure Screenings\,​ Virtual Visits\, Connection to Primary Care​ and more!​ Registration is not required.
URL:https://www.ymcade.org/event/christiana-care-mobile-van/
LOCATION:Bear-Glasgow Family YMCA\, 351 George Williams Way\, Newark\, DE\, 19702\, United States
CATEGORIES:Bear-Glasgow YMCA
END:VEVENT
BEGIN:VEVENT
DTSTART;TZID=UTC:20250321T170000
DTEND;TZID=UTC:20250321T200000
DTSTAMP:20260422T162936
CREATED:20250228T171503Z
LAST-MODIFIED:20250228T171503Z
UID:10000672-1742576400-1742587200@www.ymcade.org
SUMMARY:Parents Night Out
DESCRIPTION:Children ages 2 – 10 can enjoy fun\, games\, and crafts while parents have a night out. \nRegistration ends at 6 p.m. on the Thursday before the scheduled Parents Night Out. \nRegister online or at the front desk. \n$25 for the first child and $15 for each additional child.
URL:https://www.ymcade.org/event/parents-night-out-8/
LOCATION:Bear-Glasgow Family YMCA\, 351 George Williams Way\, Newark\, DE\, 19702\, United States
CATEGORIES:Bear-Glasgow YMCA
END:VEVENT
BEGIN:VEVENT
DTSTART;TZID=UTC:20250321T173000
DTEND;TZID=UTC:20250321T200000
DTSTAMP:20260422T162936
CREATED:20250306T031926Z
LAST-MODIFIED:20250306T032401Z
UID:10000684-1742578200-1742587200@www.ymcade.org
SUMMARY:Teen Night
DESCRIPTION:Come out and bring your friends to enjoy a night of chilling\, laughing\, food\, and fun! \nTeens can use the pool (they must bring swimwear)\, work out in the Fitness Center\, play basketball\, or just hang out! \nRegistration is not required and is open to the community. \nTeen Nights are FREE. YMCA membership is not required. \nA parent/guardian must check you in.
URL:https://www.ymcade.org/event/teen-night-16/2025-03-21/
LOCATION:Brandywine YMCA\, 3 Mount Lebanon Road\, Wilmington\, DE\, 19803
CATEGORIES:Brandywine YMCA
END:VEVENT
BEGIN:VEVENT
DTSTART;TZID=UTC:20250321T173000
DTEND;TZID=UTC:20250321T203000
DTSTAMP:20260422T162936
CREATED:20250306T032702Z
LAST-MODIFIED:20250306T032702Z
UID:10000685-1742578200-1742589000@www.ymcade.org
SUMMARY:Parents Night Out
DESCRIPTION:Parents – have a night on the town or enjoy a movie night at home. \nAges 3-12 (please be potty trained) \nKids will enjoy pizza\, crafts\, games\, the bounce house\, and movies! \nMembers $30 per child & $20/additional siblings. \n  \n 
URL:https://www.ymcade.org/event/parents-night-out-9/
LOCATION:Brandywine YMCA\, 3 Mount Lebanon Road\, Wilmington\, DE\, 19803
CATEGORIES:Brandywine YMCA,Parents Night Out
END:VEVENT
BEGIN:VEVENT
DTSTART;TZID=UTC:20250321T180000
DTEND;TZID=UTC:20250321T203000
DTSTAMP:20260422T162936
CREATED:20250228T181637Z
LAST-MODIFIED:20250228T181637Z
UID:10000673-1742580000-1742589000@www.ymcade.org
SUMMARY:Bingo Night
DESCRIPTION:Doors open at 5 p.m. | Games begin at 6 p.m. \nWestern Family YMCA Gymnasium \nJoin us for Bingo Night at the Y – Where the numbers are lucky\, the prizes are fabulous\, and the laughs are endless! Get ready to shout “BINGO!” at this fun-filled event that supports the Western Family YMCA Annual Campaign. Our professional BINGO caller will guide you through 10 rounds of the classic game and 2 special games\, allowing several opportunities to win big! Prizes included 3-Month Free Membership to the Y\, tickets to the Opera\, and more! Event is open to community with ID. Must be 18 years or older to participate. \nRegister here!
URL:https://www.ymcade.org/event/bingo-night/
LOCATION:Western YMCA\, 2600 Capitol Trail\, Newark\, DE\, 19711
CATEGORIES:Western YMCA
END:VEVENT
END:VCALENDAR